BEGIN:VCALENDAR
VERSION:2.0
PRODID:-//Master Naly Feng Shui - ECPv6.15.12.2//NONSGML v1.0//EN
CALSCALE:GREGORIAN
METHOD:PUBLISH
X-ORIGINAL-URL:https://masternaly-hs.com.kh
X-WR-CALDESC:Events for Master Naly Feng Shui
REFRESH-INTERVAL;VALUE=DURATION:PT1H
X-Robots-Tag:noindex
X-PUBLISHED-TTL:PT1H
BEGIN:VTIMEZONE
TZID:Asia/Phnom_Penh
BEGIN:STANDARD
TZOFFSETFROM:+0700
TZOFFSETTO:+0700
TZNAME:+07
DTSTART:20230101T000000
END:STANDARD
END:VTIMEZONE
BEGIN:VEVENT
DTSTART;TZID=Asia/Phnom_Penh:20241009T094500
DTEND;TZID=Asia/Phnom_Penh:20241009T173000
DTSTAMP:20260421T063216
CREATED:20250131T105528Z
LAST-MODIFIED:20250201T140514Z
UID:10000011-1728467100-1728495000@masternaly-hs.com.kh
SUMMARY:IFSC Hong Kong 2024
DESCRIPTION:IFSC Hong Kong 2024\nOctober 9\, 2024\n@\n9:45 am\n–\n5:30 pm \nLocation: Hong Kong \nMark your calendar for a truly transformative experience at the 20th International Feng Shui Convention (IFSC Hong Kong 2024)\, happening from 9–10 November 2024 in Hong Kong. Discover how Feng Shui principles can be applied to modern business strategies and unlock new pathways to success with insights from the world’s most celebrated IFSA Masters and Grand Masters. \nEvent Details:\nThis landmark convention brings together renowned Feng Shui experts from around the globe\, offering an unparalleled opportunity to: \n– Learn from the Best: Gain insights from acclaimed IFSA Masters and Grand Masters on how to harness Feng Shui for business growth\, prosperity\, and innovation.\n– Network with the Global Feng Shui Community: Connect with like-minded professionals\, enthusiasts\, and experts in an inspiring and collaborative setting.\n– Explore Cutting-Edge Topics: Delve into how ancient Feng Shui practices can empower modern businesses in today’s fast-evolving world. \nThis prestigious event is your gateway to invaluable knowledge and connections. Whether you’re a seasoned Feng Shui practitioner\, a business leader\, or simply curious about integrating Feng Shui into your ventures\, the IFSC Hong Kong 2024 offers something for everyone. \n✨ Early-Bird Registration Now Open!\nClick the link below to secure your special rate and reserve your spot:\nRegister Now: https://ttgevents.eventsair.com \nJoin us in Hong Kong this November and be part of this momentous occasion. Your journey to mastering Feng Shui for modern business starts here! \nHighlights from Our Event\n\n\n\n\n\n\n\n\n\n\n\n\n\n\n\n\n\n\n\n\n\n\n\n \n\n\n\nFeng Shui Landform \n\nFeng Shui Seminar 2025
URL:https://masternaly-hs.com.kh/event/ifsc-hong-kong-2024/
LOCATION:Hong Kong\, Hong Kong
ATTACH;FMTTYPE=image/webp:https://masternaly-hs.com.kh/wp-content/uploads/2025/01/IFSC-Hong-Kong-2024-1.webp
END:VEVENT
END:VCALENDAR