BEGIN:VCALENDAR
VERSION:2.0
PRODID:-//Master Naly Feng Shui - ECPv6.15.12.2//NONSGML v1.0//EN
CALSCALE:GREGORIAN
METHOD:PUBLISH
X-ORIGINAL-URL:https://masternaly-hs.com.kh
X-WR-CALDESC:Events for Master Naly Feng Shui
REFRESH-INTERVAL;VALUE=DURATION:PT1H
X-Robots-Tag:noindex
X-PUBLISHED-TTL:PT1H
BEGIN:VTIMEZONE
TZID:Asia/Phnom_Penh
BEGIN:STANDARD
TZOFFSETFROM:+0700
TZOFFSETTO:+0700
TZNAME:+07
DTSTART:20220101T000000
END:STANDARD
END:VTIMEZONE
BEGIN:VEVENT
DTSTART;VALUE=DATE:20231111
DTEND;VALUE=DATE:20231113
DTSTAMP:20260421T081700
CREATED:20241231T112033Z
LAST-MODIFIED:20250701T065609Z
UID:10000013-1699660800-1699833599@masternaly-hs.com.kh
SUMMARY:IFSC Malaysia
DESCRIPTION:IFSC Malaysia\nNovember 11\n–\nNovember 12 \nLocation: Kuala Lumpur\, Malaysia \nYour chance to learn about the importance of timing in Chinese Metaphysics – with a focus on Period 9! \nTiming is indeed an important aspect of Chinese Metaphysics and is present in all 5 Branches. It’s used in healing\, understanding Life Destiny\, planning important events and assessing the intrinsic energies of a site. \nIn the practice of Feng Shui\, three main factors should always be considered – Location\, Direction and Time. These are extremely important in order to achieve effective outcomes and avoid detrimental repercussions. \nThis year at IFSC 2023\, we’ll focus on how Time and Timing are treated in the various Branches of Chinese Metaphysics. This is especially significant due to the current change over from Period 8 to Period 9 in the Xuan Gong system of Feng Shui\, which represents a momentous shift in fundamental global energies. \nAs such we seek to shed light on what might be expected from this transition and how Timing should be used to ensure a better practice of Chinese Metaphysics for everyone. \nHighlights from Our Event\n\n\n\n\n\n\n\n\n\n\n\n\n\n\n\n\n\n\n\n\n \n\n\n\nMaster Naly Feng Shui x Way FengShui Group
URL:https://masternaly-hs.com.kh/event/ifsc-malaysia/
LOCATION:Kuala Lumpur\, Malaysia\, Kuala Lumpur\, Malaysia
ATTACH;FMTTYPE=image/webp:https://masternaly-hs.com.kh/wp-content/uploads/2025/01/IFSC-Malaysia-2023-feature.webp
END:VEVENT
END:VCALENDAR