BEGIN:VCALENDAR
VERSION:2.0
PRODID:-//Master Naly Feng Shui - ECPv6.15.12.2//NONSGML v1.0//EN
CALSCALE:GREGORIAN
METHOD:PUBLISH
X-ORIGINAL-URL:https://masternaly-hs.com.kh
X-WR-CALDESC:Events for Master Naly Feng Shui
REFRESH-INTERVAL;VALUE=DURATION:PT1H
X-Robots-Tag:noindex
X-PUBLISHED-TTL:PT1H
BEGIN:VTIMEZONE
TZID:Asia/Phnom_Penh
BEGIN:STANDARD
TZOFFSETFROM:+0700
TZOFFSETTO:+0700
TZNAME:+07
DTSTART:20220101T000000
END:STANDARD
END:VTIMEZONE
BEGIN:VEVENT
DTSTART;TZID=Asia/Phnom_Penh:20231129T084500
DTEND;TZID=Asia/Phnom_Penh:20231129T084500
DTSTAMP:20260421T080739
CREATED:20250131T113051Z
LAST-MODIFIED:20250627T082719Z
UID:10000014-1701247500-1701247500@masternaly-hs.com.kh
SUMMARY:Updated: Master Naly Feng Shui x Way FengShui Group
DESCRIPTION:Master Naly Feng Shui x Way FengShui Group\nNovember 29\, 2023\n@\n8:45 am \nLocation: Singapore \nOfficial Partnership Announcement \nOn 29 June 2023\, an important milestone was achieved as Master Naly Feng Shui from Cambodia and Way FengShui Group from Singapore came together in Singapore to sign a Memorandum of Understanding (MOU)\, marking the beginning of a powerful partnership in the global Feng Shui industry. \nThis groundbreaking collaboration aims to combine the expertise and knowledge of both companies to provide accessible and relevant Feng Shui insights tailored to modern lifestyles. By pooling resources and experience\, Master Naly Feng Shui and Way FengShui Group are committed to advancing the understanding and application of Feng Shui principles in everyday life. \nFor Way FengShui Group\, this partnership represents a pivotal step in expanding their global Feng Shui alliance\, extending their influence and dedication to bringing high-quality Feng Shui knowledge to new regions. \nFor Cambodia\, this partnership strengthens the local Feng Shui industry by setting new standards of excellence and professionalism\, elevating the practice of Feng Shui to new heights. \nThis MOU is more than just a collaboration—it’s a shared vision of empowering individuals and businesses with the transformative power of Feng Shui. Together\, Master Naly Feng Shui and Way FengShui Group are opening doors to a future where traditional wisdom meets modern needs\, creating a lasting impact for generations to come. \nStay tuned for exciting updates and initiatives as we embark on this extraordinary journey together! \nHighlights from Our Event\n\n\n\n\n\n\n\n\n\n\n\n\n\n\n\n\n\n \n\n\n\nIFSC Malaysia \n\nFeng Shui Seminar 2024
URL:https://masternaly-hs.com.kh/event/master-naly-feng-shui-x-way-fengshui-group/
LOCATION:Singapore\, Singapore
ATTACH;FMTTYPE=image/webp:https://masternaly-hs.com.kh/wp-content/uploads/2025/01/MOU-Event-Cover-Image.webp
END:VEVENT
END:VCALENDAR