BEGIN:VCALENDAR
VERSION:2.0
PRODID:-//Master Naly Feng Shui - ECPv6.15.12.2//NONSGML v1.0//EN
CALSCALE:GREGORIAN
METHOD:PUBLISH
X-WR-CALNAME:Master Naly Feng Shui
X-ORIGINAL-URL:https://masternaly-hs.com.kh
X-WR-CALDESC:Events for Master Naly Feng Shui
REFRESH-INTERVAL;VALUE=DURATION:PT1H
X-Robots-Tag:noindex
X-PUBLISHED-TTL:PT1H
BEGIN:VTIMEZONE
TZID:Asia/Phnom_Penh
BEGIN:STANDARD
TZOFFSETFROM:+0700
TZOFFSETTO:+0700
TZNAME:+07
DTSTART:20220101T000000
END:STANDARD
END:VTIMEZONE
BEGIN:VEVENT
DTSTART;TZID=Asia/Phnom_Penh:20241222T060000
DTEND;TZID=Asia/Phnom_Penh:20241222T180000
DTSTAMP:20260421T062159
CREATED:20250128T064228Z
LAST-MODIFIED:20250131T114221Z
UID:10000010-1734847200-1734890400@masternaly-hs.com.kh
SUMMARY:Feng Shui Seminar 2025
DESCRIPTION:Feng Shui Seminar 2025\n			December 22\, 2024\n	 @\n6:00 am\n	 –\n6:00 pm \nLocation: Sokha Phnom Penh Hotel\, Phnom Penh \nGet ready for the highly anticipated Feng Shui Seminar 2025\, hosted by Cambodia’s leading Feng Shui expert\, Master Naly Long\, with special guest speakers Grand Master Tan Khoon Yong and Master Goh Guan Leong from WayFengShui\, Singapore. This extraordinary seminar offers powerful insights to help you navigate 2025 with confidence\, align with the positive energy of the year\, and turn challenges into opportunities. \nEvent Details: \nDiscover the keys to unlocking prosperity\, harmony\, and good fortune with invaluable teachings from some of the world’s most renowned Feng Shui Masters. During this exclusive event\, you will learn: \n– Harnessing Positive Energy with Yang Feng Shui: Maximize your potential by utilizing Yang Feng Shui techniques to attract and amplify positive power.– The Importance of Yin Feng Shui: Understand the impact of organizing ancestral burial plots and avoid the negative consequences of missteps.– Investment Strategies for Period 9: Learn how to make smart investment decisions in the evolving Feng Shui cycle.– Major Events and Catastrophes Forecast for 2025: Stay ahead by gaining insights into what the year may hold.– Luck Enhancement: Practical ways to harness luck in 2025 and transform misfortune into opportunity.– Turning Bad Luck into Good Fortune: Discover how to turn challenging situations into stepping stones for success. \nThis seminar is not just about knowledge—it’s about transforming your life in 2025 and beyond. Master Naly Long\, celebrated for her deep expertise and practical insights\, will guide you through these critical topics. Joining her are the distinguished Grand Master Tan Khoon Yong and Senior Master Goh Guan Leong\, offering their wisdom and expertise to make this seminar truly unforgettable. \nSeats are limited for this exclusive event. Don’t miss your chance to meet these world-renowned Feng Shui Masters and gain the tools to create a brighter\, more prosperous future. \nRegister now and take the first step toward a successful 2025! \nHighlights from Our Event\n						\n							\n															\n						\n							\n															\n						\n							\n															\n						\n							\n															\n						\n							\n															\n						\n							\n															\n						\n							\n															\n						\n							\n															\n						\n							\n															\n						\n							\n															\n						\n							\n															\n						\n							\n															\n						\n							\n															\n						\n							\n															 \n\n\n\n\n				IFSC Hong Kong 2024	\n\n\n	\n		Meet Master Naly: Chinese New Year 2025 Lucky Guide
URL:https://masternaly-hs.com.kh/event/feng-shui-seminar-2025/
LOCATION:Sokha Phnom Penh & Residence\, Cambodia
ATTACH;FMTTYPE=image/png:https://masternaly-hs.com.kh/wp-content/uploads/2025/01/Feng-Shui-2025.png
END:VEVENT
BEGIN:VEVENT
DTSTART;TZID=Asia/Phnom_Penh:20231209T130000
DTEND;TZID=Asia/Phnom_Penh:20231209T173000
DTSTAMP:20260421T062159
CREATED:20250131T111023Z
LAST-MODIFIED:20250201T140553Z
UID:10000012-1702126800-1702143000@masternaly-hs.com.kh
SUMMARY:Feng Shui Seminar 2024
DESCRIPTION:Feng Shui Seminar 2024\nDecember 9\, 2023\n@\n1:00 pm\n–\n5:30 pm \nLocation: Sokha Hotel\, Phnom Peh \nJoin us for an exclusive Feng Shui Seminar 2024\, hosted by Cambodia’s leading Feng Shui expert\, Master Naly Long\, alongside esteemed guest speakers Grand Master Tan Khoon Yong and Senior Master Goh Guan Leong from Way Fengshui group\, Singapore. This is your opportunity to uncover the secrets of thriving in Period 9\, the upcoming 20-year Feng Shui cycle\, and prepare yourself and your investments for prosperity and success. \nEvent Details:\nAre you ready for the challenges and opportunities of Period 9? Gain unparalleled knowledge and actionable strategies to help you excel in business\, investments\, and life during this pivotal cycle. The seminar will cover essential topics\, including: \n– Unlocking Success in Period 9: Learn how to align yourself for success in the age of 9.\n– Booming Industries of Period 9: Discover which industries will thrive and how to capitalize on emerging opportunities.\n– Real Estate Predictions: Will the property market boom or bust? Get expert insights into the real estate landscape.\n– Investment Strategies: Practical advice for investors to navigate challenges and maximize returns in Period 9.\n– Major Events and World Economy: Understand potential global events and economic shifts to prepare for the future.\n– Ancestral Burial Planning: Learn the art of organizing ancestral burial plots to enhance family harmony and prosperity. \nThis exclusive seminar is not just a learning opportunity but a chance to meet Master Naly Long\, whose expertise has transformed countless lives in Cambodia and beyond. Joining here are Grand Master Tan Khoon Yong\, a visionary leader in Scientifc Feng Shui\, and Senior Master Goh Guan Leong\, a distinguished expert from Singapore. \nSeats are limited for this one-of-a-kind event. Don’t miss this rare chance to learn from the best and align yourself for success in the transformative Period 9. \nRegister now and take the first step toward a prosperous future! \nHighlights from Our Event\n\n\n\n\n\n\n\n\n\n\n\n\n\n\n\n\n\n\n\n\n\n\n\n\n\n\n\n\n\n\n\n\n \n\n\n\nMaster Naly Feng Shui x Way FengShui Group \n\nFeng Shui Landform
URL:https://masternaly-hs.com.kh/event/feng-shui-seminar-2024/
LOCATION:Sokha Phnom Penh & Residence\, Cambodia
ATTACH;FMTTYPE=image/webp:https://masternaly-hs.com.kh/wp-content/uploads/2025/01/Feng-Shui-Seminar-2024.webp
END:VEVENT
END:VCALENDAR